Workbook

Sheet Forbehold
A8: Beregner vedrørende tiltrædelse af Landsoverenskomsten for fysioterapeuter
A10: Version 1
A12: Forbehold
A13: Denne beregner er udarbejdet som et hjælpeværktøj i forbindelse med lønomlægning ved tiltrædelse af Landsoverenskomsten for fysioterapeuter mellem Dansk Erhverv Arbejdsgiver, Fysioterapeuternes Fagforening og Serviceforbundet.
A14: Beregningsarket giver en vejledende opgørelse af den samlede lønpakke før og efter overenskomsttiltrædelsen med henblik på at understøtte arbejdet med omlægning af løn- og ansættelsesvilkår. Beregningen bygger på de oplysninger, som indtastes i arket, og på de forudsætninger, der er lagt til grund for beregningsmodellen.
A15: Arket kan ikke rumme alle individuelle forhold, lokale aftaler, ansættelsesretlige forhold, som kan have betydning for den enkelte medarbejders løn- og ansættelsesvilkår. Resultatet skal derfor alene betragtes som vejledende og kan ikke stå alene ved fastlæggelsen af den konkrete lønomlægning.
A16: Beregningsarket udgør ikke juridisk rådgivning eller en bindende fortolkning af overenskomsten. Den endelige vurdering af en lønomlægning bør altid ske på baggrund af en konkret gennemgang af den enkelte medarbejders løn- og ansættelsesforhold. Kontakt Dansk Erhverv for nærmere rådgivning om konkrete tilfælde.

Sheet Beregner firma
B1: Lønomkostning pr. måned ved brancheoverenskomst for Fysioterapeuter
D3: Indtast oplysninger i orange felter
D5: Anciennitet
B6: Lønsatser pr. 1. oktober 2026 | C6: Sats | D6: 0-12 mdr.: Erhvervsturnus | F6: 0-3 mdr.: Struktureret opstart | H6: 0-1 år | J6: 1-2 år | L6: 2-4 år | N6: 4+ år | Q6: Total, kr. pr. måned
D7: Antal medarbejdere | E7: Beløb | F7: Antal medarbejdere | G7: Beløb | H7: Antal medarbejdere | I7: Beløb | J7: Antal medarbejdere | K7: Beløb | L7: Antal medarbejdere | M7: Beløb | N7: Antal medarbejdere | O7: Beløb | Q7: Antal medarbejdere | R7: Beløb
B9: Minimumsløn | D9: 0 | E9: ='Ark2'!B4*D9 -> 0 | F9: 0 | G9: ='Ark2'!C4*F9 -> 0 | H9: 0 | I9: ='Ark2'!D4*H9 -> 0 | J9: 0 | K9: ='Ark2'!E4*J9 -> 0 | L9: 0 | M9: ='Ark2'!F4*L9 -> 0 | N9: 0 | O9: ='Ark2'!G4*N9 -> 0 | Q9: =D9+F9+H9+J9+L9+N9 -> 0 | R9: =E9+G9+I9+K9+M9+O9 -> 0
B11: OK-tillæg:
B12: Certificeret mentor højt tillæg, pensions og ferieberettiget | H12: 0 | I12: ='Ark2'!$B8*H12 -> 0 | J12: 0 | K12: ='Ark2'!$B8*J12 -> 0 | L12: 0 | M12: ='Ark2'!$B8*L12 -> 0 | N12: 0 | O12: ='Ark2'!$B8*N12 -> 0 | R12: =E12+G12+I12+K12+M12+O12 -> 0
B13: Certificeret mentor lavt tillæg, pensions og ferieberettiget | H13: 0 | I13: ='Ark2'!$C8*H13 -> 0 | J13: 0 | K13: ='Ark2'!$C8*J13 -> 0 | L13: 0 | M13: ='Ark2'!$C8*L13 -> 0 | N13: 0 | O13: ='Ark2'!$C8*N13 -> 0 | R13: =E13+G13+I13+K13+M13+O13 -> 0
B14: Klinisk vejleder, pensions og ferieberettiget | D14: 0 | E14: ='Ark2'!$D9/12*D14 -> 0 | F14: 0 | G14: ='Ark2'!$D9/12*F14 -> 0 | H14: 0 | I14: ='Ark2'!$D9/12*H14 -> 0 | J14: 0 | K14: ='Ark2'!$D9/12*J14 -> 0 | L14: 0 | M14: ='Ark2'!$D9/12*L14 -> 0 | N14: 0 | O14: ='Ark2'!$D9/12*N14 -> 0 | R14: =E14+G14+I14+K14+M14+O14 -> 0
B15: TR, hverken pensions eller ferieberettiget | D15: 0 | E15: ='Ark2'!$D10/12*D15 -> 0 | F15: 0 | G15: ='Ark2'!$D10/12*F15 -> 0 | H15: 0 | I15: ='Ark2'!$D10/12*H15 -> 0 | J15: 0 | K15: ='Ark2'!$D10/12*J15 -> 0 | L15: 0 | M15: ='Ark2'!$D10/12*L15 -> 0 | N15: 0 | O15: ='Ark2'!$D10/12*N15 -> 0 | R15: =E15+G15+I15+K15+M15+O15 -> 0
B16: AMR, hverken pensions eller ferieberettiget | D16: 0 | E16: ='Ark2'!$D11/12*D16 -> 0 | F16: 0 | G16: ='Ark2'!$D11/12*F16 -> 0 | H16: 0 | I16: ='Ark2'!$D11/12*H16 -> 0 | J16: 0 | K16: ='Ark2'!$D11/12*J16 -> 0 | L16: 0 | M16: ='Ark2'!$D11/12*L16 -> 0 | N16: 0 | O16: ='Ark2'!$D11/12*N16 -> 0 | R16: =E16+G16+I16+K16+M16+O16 -> 0
B18: Ferietillæg | C18: 0.01 | E18: =SUM(E9:E14)*47/52*$C$18 -> 0 | G18: =SUM(G9:G14)*47/52*$C$18 -> 0 | I18: =SUM(I9:I14)*47/52*$C$18 -> 0 | K18: =SUM(K9:K14)*47/52*$C$18 -> 0 | M18: =SUM(M9:M14)*47/52*$C$18 -> 0 | O18: =SUM(O9:O14)*47/52*$C$18 -> 0 | R18: =E18+G18+I18+K18+M18+O18 -> 0
B19: Pension, arbejdsgiverbetalt bidrag | C19: 0.13 | E19: =(SUM(E9:E14)+E18)*$C$19 -> 0 | G19: =(SUM(G9:G14)+G18)*$C$19 -> 0 | I19: =(SUM(I9:I14)+I18)*$C$19 -> 0 | K19: =(SUM(K9:K14)+K18)*$C$19 -> 0 | M19: =(SUM(M9:M14)+M18)*$C$19 -> 0 | O19: =(SUM(O9:O14)+O18)*$C$19 -> 0 | R19: =E19+G19+I19+K19+M19+O19 -> 0
B21: Lokallønspulje | N21: =N9 -> 0 | O21: =N21*1250*54% -> 0 | R21: =E21+G21+I21+K21+M21+O21 -> 0
B23: DA/LO udviklingsfond | C23: 0.49 | D23: =D9 -> 0 | E23: =$C$23*1650/12*D23 -> 0 | F23: =F9 -> 0 | G23: =$C$23*1650/12*F23 -> 0 | H23: =H9 -> 0 | I23: =$C$23*1650/12*H23 -> 0 | J23: =J9 -> 0 | K23: =$C$23*1650/12*J23 -> 0 | L23: =L9 -> 0 | M23: =$C$23*1650/12*L23 -> 0 | N23: =N9 -> 0 | O23: =$C$23*1650/12*N23 -> 0 | R23: =E23+G23+I23+K23+M23+O23 -> 0
B25: Samlet | E25: =SUM(E9:E23) -> 0 | G25: =SUM(G9:G23) -> 0 | I25: =SUM(I9:I23) -> 0 | K25: =SUM(K9:K23) -> 0 | M25: =SUM(M9:M23) -> 0 | O25: =SUM(O9:O23) -> 0 | R25: =SUM(R9:R23) -> 0

Sheet Beregner fastlønnet
B1: Lønomkostning pr. måned ved brancheoverenskomst for Fysioterapeuter for fastlønnet
C3: Indtast oplysninger i orange felter
B5: Nuværende løn som fastlønnet
B7: Fast løn, pensionsgivende | D7: 40000 | E7: pr. måned
B8: Tillæg, pensionsgivende | D8: 0 | E8: pr. måned
B9: Tillæg, ikke pensionsgivende | D9: 0 | E9: pr. måned
B11: Ferietillæg, ikke pensionsgivende | C11: 0.015 | D11: =SUM(D7:D9)*47/52*C11 -> 542.30769 | E11: pr. måned
B13: Pension, arbejdsgiverbetalt bidrag | C13: 0.15 | D13: =(SUM(D7:D8))*C13 -> 6000 | E13: pr. måned
B15: Bededagstillæg | C15: 0.0045 | D15: =SUM(D7:D13)*C15 -> 209.44038 | E15: pr. måned
B17: Samlet | D17: =SUM(D7:D16) -> 46751.748 | E17: pr. måned
B19: Værdi af 5 feriefridage med løn - indtast dage -> | C19: 5 | D19: =D17/260*C19 -> 899.07208 | E19: pr. måned
B20: Værdi af andre fridage med løn - indtast dage -> | C20: 1.42 | D20: =D17/260*C20 -> 255.33647 | E20: pr. måned | F20: Falder fridagen i nogle år i weekender, så indtast 0,71 dag (5/7)
B22: Samlet pr. måned | D22: =SUM(D17:D20) -> 47906.157 | E22: pr. måned
B25: Løn på overenskomst som fastlønnet
B27: Lønsatser pr. 1. oktober 2026
B29: Vælg anciennitetstrin | D29: 4+ år
B31: Indtast ugenorm | D31: 37 | E31: timer pr. uge
C34: Sats
B35: Overenskomstløn | D35: =_xlfn.XLOOKUP(D29,'Ark2'!B3:G3,'Ark2'!B4:G4,"",0)*D31/37 -> 33417 | E35: pr. måned
B36: Lokalløn (varigt tillæg) | D36: 0 | E36: pr. måned | F36: OBS: Beløbet skal fraregnes værdi til ferietillæg, pension og evt. bededagstillæg, som tillægges efterfølgende. Se række 71
B37: Personligt tillæg | D37: =(D22/(1+12/260*5/12+12/260*2*5/7/12)-(D43+D42)*(1+C50))/((1+C45*47/52)*(1+C47)*(1+C50))-D35-D36-D40-D41 -> 7400.6293 | E37: pr. måned | F37: OBS: Er det personlige tillæg negativt, skal det ændres til 0 kr.
B39: OK-tillæg:
B40: Certificeret mentor, pensions og ferieberettiget | C40: Intet tillæg | D40: {=_xlfn.IFS(AND(OR(D29='Ark2'!D3,D29='Ark2'!E3,D29='Ark2'!F3,D29='Ark2'!G3),'Beregner fastlønnet'!C40="Højt tillæg"),'Ark2'!B8,AND(OR(D29='Ark2'!D3,D29='Ark2'!E3,D29='Ark2'!F3,D29='Ark2'!G3),'Beregner fastlønnet'!C40="Lavt tillæg"),'Ark2'!C8,C40="Intet tillæg",0,OR(D29='Ark2'!B3,D29='Ark2'!C3),0)} -> 0 | E40: pr. måned
B41: Klinisk vejleder, pensions og ferieberettiget | C41: Nej | D41: =IF(C41="Ja",'Ark2'!D9/12,0) -> 0 | E41: pr. måned
B42: TR, hverken pensions eller ferieberettiget | C42: Nej | D42: =IF(C42="Ja",'Ark2'!D10/12,0) -> 0 | E42: pr. måned
B43: AMR, hverken pensions eller ferieberettiget | C43: Nej | D43: =IF(C43="Ja",'Ark2'!D11/12,0) -> 0 | E43: pr. måned
B45: Ferietillæg | C45: 0.01 | D45: =SUM(D35:D41)*47/52*$C$45 -> 368.92857 | E45: pr. måned
B47: Pension, arbejdsgiverbetalt bidrag | C47: 0.13 | D47: =(SUM(D35:D41)+D45)*$C$47 -> 5354.2525 | E47: pr. måned | F47: Arbejdsgiverbidraget kan nedsættes indtil 8 pct.
B48: Pension, lønmodtagerbetalt bidrag | C48: 0.02 | D48: =(SUM(D35:D41)+D45)*$C$48 -> 823.73116 | E48: pr. måned
B50: Bededagstillæg | C50: =C15 -> 0.0045 | D50: =SUM(D35:D47)*C50 -> 209.43365 | E50: pr. måned
B52: Samlet | D52: =SUM(D35:D47)+D50 -> 46750.244 | E52: pr. måned
B54: Værdi af 5 feriefridage | D54: =D52/260*5 -> 899.04315 | E54: pr. måned
B55: Værdi af fri 24. og 31. december | D55: =D52/260*2*5/7 -> 256.86947 | E55: pr. måned
B57: Samlet inkl. fridage | D57: =SUM(D52:D55) -> 47906.157 | E57: pr. måned
B59: Forskel | D59: =D57-D22 -> 0 | E59: pr. måned
B61: Øvrige omkostninger
B63: Lokallønspulje inkl. pension, ferietillæg og evt. bededagstillæg | D63: =IF(D29='Ark2'!G3,1250*54%,0) -> 675 | E63: pr. måned | F63: Beregning af lokallønspuljen drøftes ved fastsættelse af lønsatsen i oktober 2027.
B64: DA/LO udviklingsfond | C64: 0.49 | D64: =C64*1650/12*D31/37 -> 67.375 | E64: pr. måned
B67: Hvis lokallønspuljemidler anvendes til denne medarbejder
B69: Hvor mange ansattes puljer skal anvendes? | C69: 1 | D69: =C69*675 -> 675 | E69: pr. måned
B71: Lokallønspuljebidrag fraregnet ferietillæg, pension og evt. bededagstillæg
D72: =D69/((1+C47)*(1+C45*47/52)*(1+C50)) -> 589.34237 | E72: pr. måned
B73: Beløbet indsættes i række 36

Sheet Beregner provisionslønnet
B1: Lønomkostning pr. måned ved brancheoverenskomst for Fysioterapeuter for provisionslønnet
C3: Indtast oplysninger i orange felter
B5: Nuværende løn som provisionslønnet
B7: Provisionsløn, pensionsgivende | D7: 500000 | E7: pr. år
B8: Tillæg, pensionsgivende | D8: 0 | E8: pr. år
B9: Tillæg, ikke pensionsgivende | D9: 0 | E9: pr. år
B11: Feriegodtgørelse, ikke pensionsgivende | C11: 0.125 | D11: =SUM(D7:D9)*C11 -> 62500 | E11: pr. år
B13: Pension, arbejdsgiverbetalt bidrag | C13: 0 | D13: =(SUM(D7:D8))*C13 -> 0 | E13: pr. år
B15: Bededagstillæg | C15: 0 | D15: =SUM(D7:D13)*C15 -> 0 | E15: pr. år
B17: Samlet | D17: =SUM(D7:D16) -> 562500 | E17: pr. år
B19: Værdi af 5 feriefridage med løn - indtast dage -> | C19: 0 | D19: =D17/260*C19 -> 0 | E19: pr. år
B20: Værdi af andre fridage med løn - indtast dage -> | C20: 0 | D20: =D17/260*C20 -> 0 | E20: pr. år | F20: Falder fridagen i nogle år i weekender, så indtast 0,71 dag (5/7)
B22: Samlet pr. måned | D22: =SUM(D17:D20)/12 -> 46875 | E22: pr. måned
B25: Løn på overenskomst som fastlønnet
B27: Lønsatser pr. 1. oktober 2026
B29: Vælg anciennitetstrin | D29: 4+ år
B31: Indtast ugenorm | D31: 37 | E31: timer pr. uge
C34: Sats
B35: Overenskomstløn | D35: =_xlfn.XLOOKUP(D29,'Ark2'!B3:G3,'Ark2'!B4:G4,"",0)*D31/37 -> 33417 | E35: pr. måned
B36: Lokalløn (varigt tillæg) | D36: 0 | E36: pr. måned | F36: OBS: Beløbet skal fraregnes værdi til ferietillæg, pension og evt. bededagstillæg, som tillægges efterfølgende. Se række 71
B37: Personligt tillæg | D37: =(D22/(1+12/260*5/12+12/260*2*5/7/12)-(D43+D42)*(1+C50))/((1+C45*47/52)*(1+C47)*(1+C50))-D35-D36-D40-D41 -> 6701.7754 | E37: pr. måned | F37: OBS: Er det personlige tillæg negativt, skal det ændres til 0 kr.
B39: OK-tillæg:
B40: Certificeret mentor, pensions og ferieberettiget | C40: Intet tillæg | D40: {=_xlfn.IFS(AND(OR(D29='Ark2'!D3,D29='Ark2'!E3,D29='Ark2'!F3,D29='Ark2'!G3),'Beregner provisionslønnet'!C40="Højt tillæg"),'Ark2'!B8,AND(OR(D29='Ark2'!D3,D29='Ark2'!E3,D29='Ark2'!F3,D29='Ark2'!G3),'Beregner provisionslønnet'!C40="Lavt tillæg"),'Ark2'!C8,C40="Intet tillæg",0,OR(D29='Ark2'!B3,D29='Ark2'!C3),0)} -> 0 | E40: pr. måned
B41: Klinisk vejleder, pensions og ferieberettiget | C41: Nej | D41: =IF(C41="Ja",'Ark2'!D9/12,0) -> 0 | E41: pr. måned
B42: TR, hverken pensions eller ferieberettiget | C42: Nej | D42: =IF(C42="Ja",'Ark2'!D10/12,0) -> 0 | E42: pr. måned
B43: AMR, hverken pensions eller ferieberettiget | C43: Nej | D43: =IF(C43="Ja",'Ark2'!D11/12,0) -> 0 | E43: pr. måned
B45: Ferietillæg | C45: 0.01 | D45: =SUM(D35:D41)*47/52*$C$45 -> 362.61201 | E45: pr. måned
B47: Pension, arbejdsgiverbetalt bidrag | C47: 0.13 | D47: =(SUM(D35:D41)+D45)*$C$47 -> 5262.5804 | E47: pr. måned | F47: Arbejdsgiverbidraget kan nedsættes indtil 8 pct.
B48: Pension, lønmodtagerbetalt bidrag | C48: 0.02 | D48: =(SUM(D35:D41)+D45)*$C$48 -> 809.62775 | E48: pr. måned
B50: Bededagstillæg | C50: =C15 -> 0 | D50: =SUM(D35:D47)*C50 -> 0 | E50: pr. måned
B52: Samlet | D52: =SUM(D35:D47)+D50 -> 45743.968 | E52: pr. måned
B54: Værdi af 5 feriefridage | D54: =D52/260*5 -> 879.69169 | E54: pr. måned
B55: Værdi af fri 24. og 31. december | D55: =D52/260*2*5/7 -> 251.34048 | E55: pr. måned
B57: Samlet inkl. fridage | D57: =SUM(D52:D55) -> 46875 | E57: pr. måned
B59: Forskel | D59: =D57-D22 -> 0 | E59: pr. måned
B61: Øvrige omkostninger
B63: Lokallønspulje inkl. pension, ferietillæg og evt. bededagstillæg | D63: =IF(D29='Ark2'!G3,1250*54%,0) -> 675 | E63: pr. måned | F63: Beregning af lokallønspuljen drøftes ved fastsættelse af lønsatsen i oktober 2027.
B64: DA/LO udviklingsfond | C64: 0.49 | D64: =C64*1650/12*D31/37 -> 67.375 | E64: pr. måned
B67: Hvis lokallønspuljemidler anvendes til denne medarbejder
B69: Hvor mange ansattes puljer skal anvendes? | C69: 1 | D69: =C69*675 -> 675 | E69: pr. måned
B71: Lokallønspuljebidrag fraregnet ferietillæg, pension og evt. bededagstillæg
D72: =D69/((1+C47)*(1+C45*47/52)*(1+C50)) -> 591.99441 | E72: pr. måned
B73: Beløbet indsættes i række 36

Sheet Ark2
A3: 46296 | B3: 0-12 mdr.: Erhvervsturnus | C3: 0-3 mdr.: Struktureret opstart | D3: 0-1 år | E3: 1-2 år | F3: 2-4 år | G3: 4+ år
A4: Lønsatser | B4: 27019 | C4: 27926 | D4: 30648 | E4: 31464 | F4: 32510 | G4: 33417
B7: 0-12 mdr.: Erhvervsturnus | C7: 0-3 mdr.: Struktureret opstart | D7: Alle
A8: Certificeret mentor, pensions og ferieberettiget | B8: 1400 | C8: 500 | E8: pr. måned
A9: Klinisk vejleder, pensions og ferieberettiget | D9: 1500 | E9: pr. år
A10: TR, hverken pensions eller ferieberettiget | D10: 1000 | E10: pr. år
A11: AMR, hverken pensions eller ferieberettiget | D11: 1000 | E11: pr. år
